BEGIN:VCALENDAR
VERSION:2.0
PRODID:-//Monmouthshire Antiquarian Association - ECPv6.15.20//NONSGML v1.0//EN
CALSCALE:GREGORIAN
METHOD:PUBLISH
X-ORIGINAL-URL:https://maa.wales
X-WR-CALDESC:Events for Monmouthshire Antiquarian Association
REFRESH-INTERVAL;VALUE=DURATION:PT1H
X-Robots-Tag:noindex
X-PUBLISHED-TTL:PT1H
BEGIN:VTIMEZONE
TZID:UTC
BEGIN:STANDARD
TZOFFSETFROM:+0000
TZOFFSETTO:+0000
TZNAME:UTC
DTSTART:20250101T000000
END:STANDARD
END:VTIMEZONE
BEGIN:VEVENT
DTSTART;TZID=UTC:20260116T193000
DTEND;TZID=UTC:20260116T213000
DTSTAMP:20260425T181318
CREATED:20251103T131757Z
LAST-MODIFIED:20251103T131843Z
UID:1108-1768591800-1768599000@maa.wales
SUMMARY:Digging Roman Caerleon: The Priory Field Excavation\, 2007 -2010
DESCRIPTION:Speakers: Dr Peter Guest and Prof. Andrew Gardner\nAbstract:  A major excavation in Priory Field\, carried out between 2007 and 2010\, produced ground breaking new evidence for Caerleon’s rich Roman – and early ‘post-Roman’ – history. The excavation uncovered the front range of a large masonry courtyard store-building\, which was the first building of its kind excavated to modern standards in the Roman Empire. Some of the exceptional finds recovered include a rare example of an elaborately decorated horse’s headpiece and several sets of dismantled body armour. This talk by the excavation’s directors will highlight some of the Priory Field project’s most significant discoveries\, describing when the courtyard building was built\, what was stored in it\, when it ceased to be used\, and what happened to it in the years after the ending of Roman Britannia at the beginning of the 5th century.\nAn introduction by MAA president Jeremy Knight will be followed by Dr Peter Guest speaking about the excavations.\nThe Q & A session will be followed by a presentation about the Caerleon Gateway Partnership Project.Refreshments will be available after the talk. There will be an opportunity to browse the bookstall hosted by Archaeopress\, and purchase a signed copy of the recently published book about the excavation written by Peter Guest and Andrew Gardiner.\n\nThis event is in person and online.\nFree admission by ticket only\n\n\nTo obtain your free ticket use the following links.In person \nhttps://www.ticketsource.co.uk/monmouthshire-antiquarian-association/digging-roman-caerleon-the-priory-field-excavation-2007-2010/2026-01-16/19:30/t-glxomga \nOnline \nhttps://www.ticketsource.co.uk/monmouthshire-antiquarian-association/digging-roman-caerleon-the-priory-field-excavation-2007-2010/2026-01-16/19:30/t-jxkypmx
URL:https://maa.wales/event/digging-roman-caerleon-the-priory-field-excavation-2007-2010/
LOCATION:St Cadoc’s Church\, High Street\, Caerleon\, Newport\, High St\, Caerleon\, NP18 1AE\, United Kingdom
ATTACH;FMTTYPE=image/jpeg:https://maa.wales/wp-content/uploads/IMGP0108-scaled.jpg
ORGANIZER;CN="Monmouthshire Antiquarian Association":MAILTO:secretary@maa.wales
END:VEVENT
END:VCALENDAR