BEGIN:VCALENDAR
VERSION:2.0
PRODID:-//Monmouthshire Antiquarian Association - ECPv6.15.20//NONSGML v1.0//EN
CALSCALE:GREGORIAN
METHOD:PUBLISH
X-WR-CALNAME:Monmouthshire Antiquarian Association
X-ORIGINAL-URL:https://maa.wales
X-WR-CALDESC:Events for Monmouthshire Antiquarian Association
REFRESH-INTERVAL;VALUE=DURATION:PT1H
X-Robots-Tag:noindex
X-PUBLISHED-TTL:PT1H
BEGIN:VTIMEZONE
TZID:UTC
BEGIN:STANDARD
TZOFFSETFROM:+0000
TZOFFSETTO:+0000
TZNAME:UTC
DTSTART:20240101T000000
END:STANDARD
END:VTIMEZONE
BEGIN:VEVENT
DTSTART;TZID=UTC:20250308T090000
DTEND;TZID=UTC:20250308T163000
DTSTAMP:20260424T183846
CREATED:20250116T121732Z
LAST-MODIFIED:20250116T121732Z
UID:913-1741424400-1741451400@maa.wales
SUMMARY:Cambrian Archaeological Association\, Darganfod - Discovery Online Conference
DESCRIPTION:Join Cambrian Archaeological Association for a day dedicated to fascinating recent work on the archaeology of Wales and the Marches! This online conference is the third in our series of biennial conferences which showcases work by winners of Cambrian Archaeological Association’s Dissertation (Gwobr Archaeoleg) prize as well as work supported by the CAA Research Fund. The event features presentations by early career researchers and some established researchers too. \nFull details of the day can be found at https://cambrians.org.uk/darganfod-discovery-conference-saturday-8th-march-2025/ \n  \nThe day will consist of a series of short presentations\, with speakers available afterwards for question and answer sessions. The event is free\, but advance registration on Eventbrite will be required:\nhttps://www.eventbrite.co.uk/e/darganfoddiscovery-a-celebration-of-new-archaeological-research-in-wales-tickets-1144128762929 \n  \nPlease register by Thursday 6th March \n  \nAny enquiries should be sent to Elizabeth Walker at Elizabeth.Walker@museumwales.ac.uk
URL:https://maa.wales/event/cambrian-archaeological-association-darganfod-discovery-online-conference/
END:VEVENT
BEGIN:VEVENT
DTSTART;TZID=UTC:20250305T100000
DTEND;TZID=UTC:20250305T123000
DTSTAMP:20260424T183846
CREATED:20250220T114139Z
LAST-MODIFIED:20250220T114241Z
UID:954-1741168800-1741177800@maa.wales
SUMMARY:Dixton Grave Yard Survey
DESCRIPTION:Volunteers wanted for graveyard survey.  \nFirst meeting and training Wednesday March 5th at 10.00 a.m. \nFollow up session Wednesday March 12th at 10.00 a.m. \nIf you are not available on these dates and would like to be part of this project\, or if you would like more details\, \nplease contact secretary@maa.wales
URL:https://maa.wales/event/dixton-grave-yard-survey/
LOCATION:Dixton Church\, Dixton Lane\, Dixton\, Monmouth\, NP25 3SY\, United Kingdom
ATTACH;FMTTYPE=image/jpeg:https://maa.wales/wp-content/uploads/20250107_113856-scaled.jpg
ORGANIZER;CN="Monmouthshire Antiquarian Association":MAILTO:secretary@maa.wales
END:VEVENT
BEGIN:VEVENT
DTSTART;TZID=UTC:20250226T143000
DTEND;TZID=UTC:20250226T163000
DTSTAMP:20260424T183846
CREATED:20250206T182449Z
LAST-MODIFIED:20250206T182449Z
UID:932-1740580200-1740587400@maa.wales
SUMMARY:Afternoon talk - Bessy and the Baronet; revelations from pamphlets and pleadings
DESCRIPTION:A talk by Peter Foden about the Sir John Williams of Llangybi Castle\, c 1700. \nInsights into Sir John William’s life and character including his near loss of the estate\, questions about the sources of his wealth\, his political and legal career\, a spicy scandal and how all this impacted on the house\, the estate\, the landscape and the locality. \nThis event is free to members. Guests welcome. Refreshments will be available for a small donation.
URL:https://maa.wales/event/afternoon-talk-bessy-and-the-baronet-revelations-from-pamphlets-and-pleadings/
LOCATION:Llangybi Village Hall\, Ton Road\, Llangybi\, Usk\, NP15 1PA
ORGANIZER;CN="Monmouthshire Antiquarian Association":MAILTO:secretary@maa.wales
END:VEVENT
END:VCALENDAR