BEGIN:VCALENDAR
VERSION:2.0
PRODID:-//Monmouthshire Antiquarian Association - ECPv6.15.20//NONSGML v1.0//EN
CALSCALE:GREGORIAN
METHOD:PUBLISH
X-WR-CALNAME:Monmouthshire Antiquarian Association
X-ORIGINAL-URL:https://maa.wales
X-WR-CALDESC:Events for Monmouthshire Antiquarian Association
REFRESH-INTERVAL;VALUE=DURATION:PT1H
X-Robots-Tag:noindex
X-PUBLISHED-TTL:PT1H
BEGIN:VTIMEZONE
TZID:UTC
BEGIN:STANDARD
TZOFFSETFROM:+0000
TZOFFSETTO:+0000
TZNAME:UTC
DTSTART:20250101T000000
END:STANDARD
END:VTIMEZONE
BEGIN:VEVENT
DTSTART;TZID=UTC:20260530T110000
DTEND;TZID=UTC:20260530T160000
DTSTAMP:20260424T183735
CREATED:20260212T180944Z
LAST-MODIFIED:20260212T181319Z
UID:1259-1780138800-1780156800@maa.wales
SUMMARY:The Three Mary’s Walk
DESCRIPTION:A walk around three churches near Tintern. \nLeader: Jo McCrum. A joint walk with Cambrian Archaeological   Association \nStart at 11.00\, return to start by 4.00\, bring your own lunch. \nIf you have ever stood on the Devil’s Pulpit to admire Tintern Abbey you may have noticed two further churches further into the Monmouthshire hills. We will walk to these other St Mary’s\, once Celtic Christian sites re-dedicated to their patron saint by the Cistercians\, to serve the lay-tenants working in their granges.  We begin by going along a steep rocky path\, built by indentured medieval labourers\, which\, by 1452\, was known as Stony Way.  We go right towards the open uplands of Penterry\, to St Mary’s (Llanbedui) to learn about the history of the church and site with its abandoned medieval village and plague pits. We then head back to Tintern’s Chapel Hill to a private garden where you can have a comfort break\, your packed lunch and\, for a donation to the St Mary’s Conservation Fund\, an optional cream tea\, before moving across to the second St Mary’s (Llanandras). Discover the colourful history of this ruined church and site\, the ironmasters buried there\, and the Lower Wye Valley Building Preservation Trust’s plans to consolidate her for safe public access. After enjoying the beautiful aerial views of the river Wye\, Tintern Village and abbey we will go down the ancient and pretty cobbled pilgrim path to the most impressive of all\, St Mary’s\, Tintern Abbey. \nThis route takes in difficult and steep ground and a couple of stiles. It is not suitable for pushchairs or anyone with mobility issues. \nMeet in the Tintern Abbey car park (paying) outside the abbey shop. \nBring Cadw cards for free entrance to the abbey. \nThe numbers will be limited so booking is essential. To book (requesting optional cream tea if desired) email secretary@maa.wales
URL:https://maa.wales/event/the-three-marys-walk/
LOCATION:Tintern Abbey Car Park\, off A466\, Tintern\, Wales\, NP16 6SE
ATTACH;FMTTYPE=image/jpeg:https://maa.wales/wp-content/uploads/3-Marys-from-Devils-Pulpit-William-Henry-Bartlett-engraving.jpg
END:VEVENT
END:VCALENDAR